BEGIN:VCALENDAR
VERSION:2.0
PRODID:-//Studioprogramma L&#039;ANZA Healing color &amp; care - ECPv6.6.2//NONSGML v1.0//EN
CALSCALE:GREGORIAN
METHOD:PUBLISH
X-ORIGINAL-URL:https://studioprogramma.lanza.nl
X-WR-CALDESC:Evenementen voor Studioprogramma L&#039;ANZA Healing color &amp; care
REFRESH-INTERVAL;VALUE=DURATION:PT1H
X-Robots-Tag:noindex
X-PUBLISHED-TTL:PT1H
BEGIN:VTIMEZONE
TZID:Europe/Helsinki
BEGIN:DAYLIGHT
TZOFFSETFROM:+0200
TZOFFSETTO:+0300
TZNAME:EEST
DTSTART:20260329T010000
END:DAYLIGHT
BEGIN:STANDARD
TZOFFSETFROM:+0300
TZOFFSETTO:+0200
TZNAME:EET
DTSTART:20261025T010000
END:STANDARD
END:VTIMEZONE
BEGIN:VEVENT
DTSTART;TZID=Europe/Helsinki:20260420T100000
DTEND;TZID=Europe/Helsinki:20260420T163000
DTSTAMP:20260421T163625
CREATED:20251209T065808Z
LAST-MODIFIED:20251209T065808Z
UID:10000917-1776679200-1776702600@studioprogramma.lanza.nl
SUMMARY:L'ANZA Bootcamp Cutting & Trends (Apeldoorn) 20/210426
DESCRIPTION:Wil jij jouw kniptechnieken verfijnen en de nieuwste trends moeiteloos toepassen in je salon? Tijdens deze intensieve tweedaagse bootcamp leer je onder leiding van Natasja Keijzer en AnnaSofie Damen hoe je lange\, middellange én korte kapsels knipt volgens de trends van nu – en hoe je die vertaalt naar jouw eigen stijl. \nWat kun je verwachten? \n\nDag 1 – Theorie & demonstraties:\nInzicht in de nieuwste kniptrends\nAnalyse van gezichtsvormen en kapselopbouw\nDemonstraties van lange\, middellange en korte coupes\nLijnvoering\, beweging en techniek\nDag 2 – Praktijk op dollheads:\nZelf oefenen met de nieuwste kniptechnieken\nPersoonlijke begeleiding en feedback van Natasja & AnnaSofie\nTips om technieken direct toe te passen in jouw salonwerk\nLeren combineren van techniek en creativiteit\n\nWaarom deelnemen? \nNa deze bootcamp beheers je de nieuwste kniptrends en weet je hoe je deze aanpast aan verschillende gezichtsvormen en klantwensen. Je hebt praktische ervaring opgedaan\, weet hoe je technieken vertaalt naar jouw eigen stijl en staat vol zelfvertrouwen én inspiratie weer in de salon. \nIndien gewenst kunnen we een overnachting regelen. De kosten hiervan bedragen € 140\,- per kamer en € 19\,50 voor het ontbijt per persoon. \nIngeschreven maar onverwacht verhinderd? Geeft dit tijdig aan ons door. Wij kunnen dan iemand van de wachtlijst plaatsen voor dit seminar. Bij te laat melden of niet melden\, hanteren we een annuleringsregeling: bij annulering binnen 14 dagen voor aanvang van de cursus bedragen de kosten 50% van het cursusbedrag. Bij annulering tot een week voor aanvang van de cursus vindt geen restitutie van het cursusbedrag plaats. Deelname door een plaatsvervanger is altijd toegestaan.
URL:https://studioprogramma.lanza.nl/workshops/lanza-bootcamp-cutting-trends-apeldoorn-20-210426/
LOCATION:Ministry of Beauty\, Europaweg 220\, 7336 AR Apeldoorn\, Nederland
CATEGORIES:L'ANZA Healing Haircare
ATTACH;FMTTYPE=image/png:https://studioprogramma.lanza.nl/wp-content/uploads/2025/12/Bootcamp-Cutting.png
ORGANIZER;CN="L'ANZA Healing Haircare":MAILTO:info@lanza.nl
GEO:52.1926836;5.9329345
X-APPLE-STRUCTURED-LOCATION;VALUE=URI;X-ADDRESS=Ministry of Beauty Europaweg 220 7336 AR Apeldoorn Nederland;X-APPLE-RADIUS=500;X-TITLE=Europaweg 220:geo:5.9329345,52.1926836
END:VEVENT
BEGIN:VEVENT
DTSTART;TZID=Europe/Helsinki:20260420T100000
DTEND;TZID=Europe/Helsinki:20260420T163000
DTSTAMP:20260421T163625
CREATED:20251209T065810Z
LAST-MODIFIED:20251209T065810Z
UID:10000904-1776679200-1776702600@studioprogramma.lanza.nl
SUMMARY:L'ANZA Producttraining basis (Lepelstraat) 200426
DESCRIPTION:Wil je jouw productkennis versterken én leren hoe je met effectieve communicatie klanten overtuigt? In deze praktische training duik je in de wereld van L’ANZA producten én leer je hoe je met de juiste communicatie meer impact maakt in je salon. \nWat kun je verwachten? \n\nProductkennis:\nLeer alles over de L’ANZA productlijnen en hoe je deze op de juiste manier inzet voor optimaal resultaat en verzorging.\nAdvies op maat:\nOntdek hoe je aan de hand van een goede diagnose het perfecte productadvies geeft\, afgestemd op de behoeften van jouw klant.\n\nWaarom deelnemen? \nNa deze training beschik je over waardevolle productkennis\, slimme adviestips en praktische communicatievaardigheden. Zo help je niet alleen je klant aan het beste resultaat\, maar geef je ook je salonomzet een krachtige boost. \nVoor wie?\nDeze opleiding is bedoeld voor iedereen die net met L’ANZA Healing Haircare is gestart of behoefte heeft de basiskennis en vaardigheden te refreshen. \nLevel: basis \nIngeschreven maar onverwacht verhinderd? Geeft dit tijdig aan ons door. Wij kunnen dan iemand van de wachtlijst plaatsen voor dit seminar. Bij te laat melden of niet melden\, hanteren we een annuleringsregeling: bij annulering binnen 14 dagen voor aanvang van de cursus bedragen de kosten 50% van het cursusbedrag. Bij annulering tot een week voor aanvang van de cursus vindt geen restitutie van het cursusbedrag plaats. Deelname door een plaatsvervanger is altijd toegestaan.
URL:https://studioprogramma.lanza.nl/workshops/lanza-producttraining-basis-lepelstraat-200426/
LOCATION:Keijzerskroon\, Kerkstraat 55\, Lepelstraat\, 4664 BP\, Nederland
CATEGORIES:L'ANZA Healing Haircare
ATTACH;FMTTYPE=image/png:https://studioprogramma.lanza.nl/wp-content/uploads/2025/12/Schermafbeelding-2025-12-04-105041.png
ORGANIZER;CN="L'ANZA Healing Haircare":MAILTO:info@lanza.nl
GEO:51.5492477;4.2770296
X-APPLE-STRUCTURED-LOCATION;VALUE=URI;X-ADDRESS=Keijzerskroon Kerkstraat 55 Lepelstraat 4664 BP Nederland;X-APPLE-RADIUS=500;X-TITLE=Kerkstraat 55:geo:4.2770296,51.5492477
END:VEVENT
END:VCALENDAR