BEGIN:VCALENDAR
VERSION:2.0
PRODID:-//Studioprogramma L&#039;ANZA Healing color &amp; care - ECPv6.6.2//NONSGML v1.0//EN
CALSCALE:GREGORIAN
METHOD:PUBLISH
X-ORIGINAL-URL:https://studioprogramma.lanza.nl
X-WR-CALDESC:Evenementen voor Studioprogramma L&#039;ANZA Healing color &amp; care
REFRESH-INTERVAL;VALUE=DURATION:PT1H
X-Robots-Tag:noindex
X-PUBLISHED-TTL:PT1H
BEGIN:VTIMEZONE
TZID:Europe/Helsinki
BEGIN:DAYLIGHT
TZOFFSETFROM:+0200
TZOFFSETTO:+0300
TZNAME:EEST
DTSTART:20260329T010000
END:DAYLIGHT
BEGIN:STANDARD
TZOFFSETFROM:+0300
TZOFFSETTO:+0200
TZNAME:EET
DTSTART:20261025T010000
END:STANDARD
END:VTIMEZONE
BEGIN:VEVENT
DTSTART;TZID=Europe/Helsinki:20260518T100000
DTEND;TZID=Europe/Helsinki:20260518T163000
DTSTAMP:20260421T183754
CREATED:20251209T065807Z
LAST-MODIFIED:20260312T071729Z
UID:10000905-1779098400-1779121800@studioprogramma.lanza.nl
SUMMARY:L'ANZA Hair Care Specialist opleiding (Apeldoorn) 18/19/200526
DESCRIPTION:Wil jij jouw salon nog verder onderscheiden met L’ANZA Healing Haircare? Schrijf je dan in voor deze driedaagse Hair Care Specialist opleiding en ontwikkel je tot een echte L’ANZA Hair Care Specialist! We gaan verder dan de basis: je duikt dieper in ingrediënten\, ontdekt nieuwe manieren om producten te gebruiken en leert hoe je jouw klanten een ultieme L’ANZA-beleving geeft. Bovendien krijg je extra inspiratie en kennis van een speciale gast die zijn of haar passie voor L’ANZA met je deelt. \nWat kun je verwachten? \n\nVerdieping van kennis: Krijg meer inzicht in ingrediënten en een bredere kijk op productgebruik\, zodat je beter kunt inspelen op specifieke haarbehoeften.\nHands-on training: Ervaar zelf hoe je de ultieme L’ANZA-salonbeleving creëert\, met persoonlijke begeleiding en praktische oefeningen.\nSpecial guest: Laat je inspireren door een professional die je L’ANZA-ervaring naar een hoger plan tilt.\n\nWaarom deelnemen? \n\nSpecialisatie: Positioneer jouw salon als dé plek voor Healing Haircare en onderscheid je door jouw rol als gecertificeerde L’ANZA Healing Haircare Specialist.\nDiepere kennis: Ontdek hoe je nóg meer uit L’ANZA-producten haalt voor optimaal resultaat en tevreden klanten.\nMeer omzet & tevreden klanten: Bied een professionele beleving waarbij klanten graag terugkomen en je salon aanraden.\n\nVoor wie?\nDeze opleiding is bedoeld voor kappers die al een basis hebben in L’ANZA Healing Haircare en klaar zijn voor de volgende stap. Ben jij er klaar voor om je kennis en vaardigheden te verdiepen? Meld je dan vandaag nog aan en word een L’ANZA Hair Care Specialist! \nPraktische informatie: \n\nDuur: 3 dagen (niet afzonderlijk bij te wonen)\nWerkwijze: je krijgt naast theoretische informatie ook praktijkopdrachten en hands-on opdrachten\nCertificering: na afloop ontvang je een exclusieve persoonlijke pin én een toonbankplaquette met jouw naam als bewijs dat jij je officieel een L’ANZA Hair Care Specialist mag noemen.\n\nDe kosten voor de totale opleiding zijn € 295\,- excl. btw. Indien gewenst kunnen we een overnachting regelen. De kosten hiervan zijn € 140\,- per kamer/per dag en € 19\,50 per persoon voor het ontbijt. \nLevel: MASTER (je moet minimaal 1 jaar met L’ANZA werken en er moet een echt goede kennis aanwezig zijn van de L’ANZA producten) \nLet op: Aanmelding is uitsluitend mogelijk via jouw L’ANZA vertegenwoordiger. \nIngeschreven maar onverwacht verhinderd? Geeft dit tijdig aan ons door. Wij kunnen dan iemand van de wachtlijst plaatsen voor dit seminar. Bij te laat melden of niet melden\, hanteren we een annuleringsregeling: bij annulering binnen 14 dagen voor aanvang van de cursus bedragen de kosten 50% van het cursusbedrag. Bij annulering tot een week voor aanvang van de cursus vindt geen restitutie van het cursusbedrag plaats. Deelname door een plaatsvervanger is altijd toegestaan.
URL:https://studioprogramma.lanza.nl/workshops/lanza-hair-care-specialist-opleiding-apeldoorn-18-19-200526/
LOCATION:Ministry of Beauty\, Europaweg 220\, 7336 AR Apeldoorn\, Nederland
CATEGORIES:L'ANZA Healing Haircare
ATTACH;FMTTYPE=image/png:https://studioprogramma.lanza.nl/wp-content/uploads/2025/12/LANZA-Hair-Care-Specialist.png
GEO:52.1926836;5.9329345
X-APPLE-STRUCTURED-LOCATION;VALUE=URI;X-ADDRESS=Ministry of Beauty Europaweg 220 7336 AR Apeldoorn Nederland;X-APPLE-RADIUS=500;X-TITLE=Europaweg 220:geo:5.9329345,52.1926836
END:VEVENT
END:VCALENDAR