BEGIN:VCALENDAR
VERSION:2.0
PRODID:-//Studioprogramma L&#039;ANZA Healing color &amp; care - ECPv6.6.2//NONSGML v1.0//EN
CALSCALE:GREGORIAN
METHOD:PUBLISH
X-WR-CALNAME:Studioprogramma L&#039;ANZA Healing color &amp; care
X-ORIGINAL-URL:https://studioprogramma.lanza.nl
X-WR-CALDESC:Evenementen voor Studioprogramma L&#039;ANZA Healing color &amp; care
REFRESH-INTERVAL;VALUE=DURATION:PT1H
X-Robots-Tag:noindex
X-PUBLISHED-TTL:PT1H
BEGIN:VTIMEZONE
TZID:Europe/Helsinki
BEGIN:DAYLIGHT
TZOFFSETFROM:+0200
TZOFFSETTO:+0300
TZNAME:EEST
DTSTART:20260329T010000
END:DAYLIGHT
BEGIN:STANDARD
TZOFFSETFROM:+0300
TZOFFSETTO:+0200
TZNAME:EET
DTSTART:20261025T010000
END:STANDARD
END:VTIMEZONE
BEGIN:VEVENT
DTSTART;TZID=Europe/Helsinki:20260615T100000
DTEND;TZID=Europe/Helsinki:20260615T163000
DTSTAMP:20260421T200818
CREATED:20251209T065807Z
LAST-MODIFIED:20251209T065807Z
UID:10000919-1781517600-1781541000@studioprogramma.lanza.nl
SUMMARY:L'ANZA Festival Color & Braids (Apeldoorn) 150626
DESCRIPTION:Ben jij klaar om de meest trendy boho festival looks te creëren en je vaardigheden naar een hoger niveau te tillen? Tijdens deze training ontdek je hoe je opvallende kapsels maakt die perfect passen bij festivals\, bruiloften en andere feestelijke gelegenheden. Of het nu gaat om losse boho vibes of stevige updos die het hele weekend blijven zitten – jij leert de technieken en tips die zorgen voor een onvergetelijke look. \nWat kun je verwachten? \n\nTrendy & Romantische Looks:\nLeer veelzijdige festival-stijlen\, van nonchalante boho waves tot romantische updo’s.\nStevig & Duurzaam:\nOntdek hoe je kapsels creëert die ondanks een weekend vol dansen\, zon en wind perfect in model blijven.\nNieuwe Technieken:\nKrijg praktische tips en technieken voor snelle en creatieve updo’s\, zelfs als je er normaal voor terugschrikt.\nZelfvertrouwen & Inspiratie:\nTil je stylingvaardigheden naar een hoger plan en sta met meer zekerheid klaar om jouw klanten te verrassen.\n\nWaarom deelnemen? \nNa deze training ben jij degene die als eerste klaarstaat om een perfecte\, feestelijke updo te creëren. Je gaat vol vertrouwen\, kennis en inspiratie terug naar de salon en op locatie\, klaar om te experimenteren en te stralen. \nDurf te vernieuwen\, verras jezelf en geef je klanten de festival look waar ze van dromen! \nLevel: gevorderd \nIngeschreven maar onverwacht verhinderd? Geeft dit tijdig aan ons door. Wij kunnen dan iemand van de wachtlijst plaatsen voor dit seminar. Bij te laat melden of niet melden\, hanteren we een annuleringsregeling: bij annulering binnen 14 dagen voor aanvang van de cursus bedragen de kosten 50% van het cursusbedrag. Bij annulering tot een week voor aanvang van de cursus vindt geen restitutie van het cursusbedrag plaats. Deelname door een plaatsvervanger is altijd toegestaan.
URL:https://studioprogramma.lanza.nl/workshops/lanza-festival-color-braids-apeldoorn-150626/
LOCATION:Ministry of Beauty\, Europaweg 220\, 7336 AR Apeldoorn\, Nederland
CATEGORIES:L'ANZA Healing Haircare
ATTACH;FMTTYPE=image/png:https://studioprogramma.lanza.nl/wp-content/uploads/2025/12/Ingeborg.png
ORGANIZER;CN="L'ANZA Healing Haircare":MAILTO:info@lanza.nl
GEO:52.1926836;5.9329345
X-APPLE-STRUCTURED-LOCATION;VALUE=URI;X-ADDRESS=Ministry of Beauty Europaweg 220 7336 AR Apeldoorn Nederland;X-APPLE-RADIUS=500;X-TITLE=Europaweg 220:geo:5.9329345,52.1926836
END:VEVENT
END:VCALENDAR