BEGIN:VCALENDAR
VERSION:2.0
PRODID:-//Studioprogramma L&#039;ANZA Healing color &amp; care - ECPv6.6.2//NONSGML v1.0//EN
CALSCALE:GREGORIAN
METHOD:PUBLISH
X-WR-CALNAME:Studioprogramma L&#039;ANZA Healing color &amp; care
X-ORIGINAL-URL:https://studioprogramma.lanza.nl
X-WR-CALDESC:Evenementen voor Studioprogramma L&#039;ANZA Healing color &amp; care
REFRESH-INTERVAL;VALUE=DURATION:PT1H
X-Robots-Tag:noindex
X-PUBLISHED-TTL:PT1H
BEGIN:VTIMEZONE
TZID:Europe/Helsinki
BEGIN:DAYLIGHT
TZOFFSETFROM:+0200
TZOFFSETTO:+0300
TZNAME:EEST
DTSTART:20260329T010000
END:DAYLIGHT
BEGIN:STANDARD
TZOFFSETFROM:+0300
TZOFFSETTO:+0200
TZNAME:EET
DTSTART:20261025T010000
END:STANDARD
END:VTIMEZONE
BEGIN:VEVENT
DTSTART;TZID=Europe/Helsinki:20260209T100000
DTEND;TZID=Europe/Helsinki:20260209T163000
DTSTAMP:20260422T012911
CREATED:20251209T065808Z
LAST-MODIFIED:20260121T105713Z
UID:10000915-1770631200-1770654600@studioprogramma.lanza.nl
SUMMARY:L'ANZA Colorspecialist opleiding (Apeldoorn)
DESCRIPTION:Ben jij klaar om je kleurkennis en technieken naar een hoger niveau te tillen? Tijdens deze intensieve 5-daagse opleiding leer je alles over het kleuren met L’ANZA en ontwikkel je de skills om elke kleuruitdaging in de salon aan te pakken. Na deze opleiding heeft kleur voor jou geen geheimen meer! \nWat kun je verwachten? \n\nTheorie & producten:\nDuik diep in de wereld van L’ANZA Healing Color. Ontdek de mogelijkheden van onze lijnen: permanent\, demi\, demi translucent\, Liquids en Vibes. Leer de verschillen en toepassingen\, zodat je altijd de juiste keuze maakt.\nGrijsdekking & lichter verven:\nBegrijp de pigmenten in ons kleurenpalet en werk effectief met de 100- en 200-series. We laten je anders kijken naar kleur\, zodat je ook complexe kleursituaties moeiteloos beheerst.\nTechnieken & applicatie:\nEen goed kleurrecept is slechts het begin. We leren je hoe je kleurapplicaties plaatst voor een perfect eindresultaat. Door te oefenen op dollheads en modellen krijg je alle tips en tricks voor precisiewerk.\nMetamorfose van je klant:\nLeer hoe je iedere klant benadert alsof ze voor het eerst in de salon is. Je voert een volledige metamorfose uit op een model\, waarbij je alle technieken en kennis toepast die je in deze opleiding hebt geleerd.\nFotografie:\nEen prachtig resultaat verdient het om vastgelegd te worden. Je krijgt praktische tips om je werk professioneel te fotograferen\, zodat je jouw creaties kunt delen en promoten.\n\nPraktische informatie \n\nDuur: 5 dagen (niet afzonderlijk bij te wonen).\nWerkwijze: Je werkt op swatches\, oefenhoofden en modellen. Wij zorgen voor alles wat je nodig hebt.\nCertificering: Na afloop ontvang je een exclusieve persoonlijke pin én een toonbankplaquette met jouw naam als bewijs dat jij je officieel een L’ANZA Colorspecialist mag noemen.\n\nDeze opleiding is dé kans om je te onderscheiden in de salon en een ware kleurexpert te worden. \nLocatie:          Ministry of Beauty\, Apeldoorn\nTijd:                 10.00 – 16.30 uur\nKosten:            € 495\,- excl. btw (voor de volledige opleiding van 5 dagen)\nOptioneel:      Overnachting voor € 140\,- per kamer\, ontbijt € 19\,50 p.p.\nNiveau:            Voorwaarden voor deelname: \nLevel               MASTER (er moet in ieder geval een training L’ANZA code of color basis gevolgd zijn) en minimaal 2 jaar ervaring met L’ANZA kleur! \nWe controleren zorgvuldig of elke deelnemer aan alle voorwaarden voldoet. Bij twijfel doen we een toelatingstest! \nLet op: Aanmelding is uitsluitend mogelijk via jouw L’ANZA vertegenwoordiger
URL:https://studioprogramma.lanza.nl/workshops/lanza-colorspecialist-opleiding-apeldoorn-3/
LOCATION:Ministry of Beauty\, Europaweg 220\, 7336 AR Apeldoorn\, Nederland
CATEGORIES:L'ANZA Healing Haircare
ATTACH;FMTTYPE=image/png:https://studioprogramma.lanza.nl/wp-content/uploads/2022/08/Schermafbeelding-2022-08-24-131016.png
ORGANIZER;CN="L'ANZA Healing Haircare":MAILTO:info@lanza.nl
GEO:52.1926836;5.9329345
X-APPLE-STRUCTURED-LOCATION;VALUE=URI;X-ADDRESS=Ministry of Beauty Europaweg 220 7336 AR Apeldoorn Nederland;X-APPLE-RADIUS=500;X-TITLE=Europaweg 220:geo:5.9329345,52.1926836
END:VEVENT
END:VCALENDAR