BEGIN:VCALENDAR
VERSION:2.0
PRODID:-//Studioprogramma L&#039;ANZA Healing color &amp; care - ECPv6.6.2//NONSGML v1.0//EN
CALSCALE:GREGORIAN
METHOD:PUBLISH
X-WR-CALNAME:Studioprogramma L&#039;ANZA Healing color &amp; care
X-ORIGINAL-URL:https://studioprogramma.lanza.nl
X-WR-CALDESC:Evenementen voor Studioprogramma L&#039;ANZA Healing color &amp; care
REFRESH-INTERVAL;VALUE=DURATION:PT1H
X-Robots-Tag:noindex
X-PUBLISHED-TTL:PT1H
BEGIN:VTIMEZONE
TZID:Europe/Helsinki
BEGIN:DAYLIGHT
TZOFFSETFROM:+0200
TZOFFSETTO:+0300
TZNAME:EEST
DTSTART:20260329T010000
END:DAYLIGHT
BEGIN:STANDARD
TZOFFSETFROM:+0300
TZOFFSETTO:+0200
TZNAME:EET
DTSTART:20261025T010000
END:STANDARD
END:VTIMEZONE
BEGIN:VEVENT
DTSTART;TZID=Europe/Helsinki:20260209T100000
DTEND;TZID=Europe/Helsinki:20260209T163000
DTSTAMP:20260422T025917
CREATED:20251209T065808Z
LAST-MODIFIED:20260121T105713Z
UID:10000915-1770631200-1770654600@studioprogramma.lanza.nl
SUMMARY:L'ANZA Colorspecialist opleiding (Apeldoorn)
DESCRIPTION:Ben jij klaar om je kleurkennis en technieken naar een hoger niveau te tillen? Tijdens deze intensieve 5-daagse opleiding leer je alles over het kleuren met L’ANZA en ontwikkel je de skills om elke kleuruitdaging in de salon aan te pakken. Na deze opleiding heeft kleur voor jou geen geheimen meer! \nWat kun je verwachten? \n\nTheorie & producten:\nDuik diep in de wereld van L’ANZA Healing Color. Ontdek de mogelijkheden van onze lijnen: permanent\, demi\, demi translucent\, Liquids en Vibes. Leer de verschillen en toepassingen\, zodat je altijd de juiste keuze maakt.\nGrijsdekking & lichter verven:\nBegrijp de pigmenten in ons kleurenpalet en werk effectief met de 100- en 200-series. We laten je anders kijken naar kleur\, zodat je ook complexe kleursituaties moeiteloos beheerst.\nTechnieken & applicatie:\nEen goed kleurrecept is slechts het begin. We leren je hoe je kleurapplicaties plaatst voor een perfect eindresultaat. Door te oefenen op dollheads en modellen krijg je alle tips en tricks voor precisiewerk.\nMetamorfose van je klant:\nLeer hoe je iedere klant benadert alsof ze voor het eerst in de salon is. Je voert een volledige metamorfose uit op een model\, waarbij je alle technieken en kennis toepast die je in deze opleiding hebt geleerd.\nFotografie:\nEen prachtig resultaat verdient het om vastgelegd te worden. Je krijgt praktische tips om je werk professioneel te fotograferen\, zodat je jouw creaties kunt delen en promoten.\n\nPraktische informatie \n\nDuur: 5 dagen (niet afzonderlijk bij te wonen).\nWerkwijze: Je werkt op swatches\, oefenhoofden en modellen. Wij zorgen voor alles wat je nodig hebt.\nCertificering: Na afloop ontvang je een exclusieve persoonlijke pin én een toonbankplaquette met jouw naam als bewijs dat jij je officieel een L’ANZA Colorspecialist mag noemen.\n\nDeze opleiding is dé kans om je te onderscheiden in de salon en een ware kleurexpert te worden. \nLocatie:          Ministry of Beauty\, Apeldoorn\nTijd:                 10.00 – 16.30 uur\nKosten:            € 495\,- excl. btw (voor de volledige opleiding van 5 dagen)\nOptioneel:      Overnachting voor € 140\,- per kamer\, ontbijt € 19\,50 p.p.\nNiveau:            Voorwaarden voor deelname: \nLevel               MASTER (er moet in ieder geval een training L’ANZA code of color basis gevolgd zijn) en minimaal 2 jaar ervaring met L’ANZA kleur! \nWe controleren zorgvuldig of elke deelnemer aan alle voorwaarden voldoet. Bij twijfel doen we een toelatingstest! \nLet op: Aanmelding is uitsluitend mogelijk via jouw L’ANZA vertegenwoordiger
URL:https://studioprogramma.lanza.nl/workshops/lanza-colorspecialist-opleiding-apeldoorn-3/
LOCATION:Ministry of Beauty\, Europaweg 220\, 7336 AR Apeldoorn\, Nederland
CATEGORIES:L'ANZA Healing Haircare
ATTACH;FMTTYPE=image/png:https://studioprogramma.lanza.nl/wp-content/uploads/2022/08/Schermafbeelding-2022-08-24-131016.png
ORGANIZER;CN="L'ANZA Healing Haircare":MAILTO:info@lanza.nl
GEO:52.1926836;5.9329345
X-APPLE-STRUCTURED-LOCATION;VALUE=URI;X-ADDRESS=Ministry of Beauty Europaweg 220 7336 AR Apeldoorn Nederland;X-APPLE-RADIUS=500;X-TITLE=Europaweg 220:geo:5.9329345,52.1926836
END:VEVENT
BEGIN:VEVENT
DTSTART;TZID=Europe/Helsinki:20260420T100000
DTEND;TZID=Europe/Helsinki:20260420T163000
DTSTAMP:20260422T025917
CREATED:20251209T065810Z
LAST-MODIFIED:20251209T065810Z
UID:10000904-1776679200-1776702600@studioprogramma.lanza.nl
SUMMARY:L'ANZA Producttraining basis (Lepelstraat) 200426
DESCRIPTION:Wil je jouw productkennis versterken én leren hoe je met effectieve communicatie klanten overtuigt? In deze praktische training duik je in de wereld van L’ANZA producten én leer je hoe je met de juiste communicatie meer impact maakt in je salon. \nWat kun je verwachten? \n\nProductkennis:\nLeer alles over de L’ANZA productlijnen en hoe je deze op de juiste manier inzet voor optimaal resultaat en verzorging.\nAdvies op maat:\nOntdek hoe je aan de hand van een goede diagnose het perfecte productadvies geeft\, afgestemd op de behoeften van jouw klant.\n\nWaarom deelnemen? \nNa deze training beschik je over waardevolle productkennis\, slimme adviestips en praktische communicatievaardigheden. Zo help je niet alleen je klant aan het beste resultaat\, maar geef je ook je salonomzet een krachtige boost. \nVoor wie?\nDeze opleiding is bedoeld voor iedereen die net met L’ANZA Healing Haircare is gestart of behoefte heeft de basiskennis en vaardigheden te refreshen. \nLevel: basis \nIngeschreven maar onverwacht verhinderd? Geeft dit tijdig aan ons door. Wij kunnen dan iemand van de wachtlijst plaatsen voor dit seminar. Bij te laat melden of niet melden\, hanteren we een annuleringsregeling: bij annulering binnen 14 dagen voor aanvang van de cursus bedragen de kosten 50% van het cursusbedrag. Bij annulering tot een week voor aanvang van de cursus vindt geen restitutie van het cursusbedrag plaats. Deelname door een plaatsvervanger is altijd toegestaan.
URL:https://studioprogramma.lanza.nl/workshops/lanza-producttraining-basis-lepelstraat-200426/
LOCATION:Keijzerskroon\, Kerkstraat 55\, Lepelstraat\, 4664 BP\, Nederland
CATEGORIES:L'ANZA Healing Haircare
ATTACH;FMTTYPE=image/png:https://studioprogramma.lanza.nl/wp-content/uploads/2025/12/Schermafbeelding-2025-12-04-105041.png
ORGANIZER;CN="L'ANZA Healing Haircare":MAILTO:info@lanza.nl
GEO:51.5492477;4.2770296
X-APPLE-STRUCTURED-LOCATION;VALUE=URI;X-ADDRESS=Keijzerskroon Kerkstraat 55 Lepelstraat 4664 BP Nederland;X-APPLE-RADIUS=500;X-TITLE=Kerkstraat 55:geo:4.2770296,51.5492477
END:VEVENT
BEGIN:VEVENT
DTSTART;TZID=Europe/Helsinki:20260420T100000
DTEND;TZID=Europe/Helsinki:20260420T163000
DTSTAMP:20260422T025917
CREATED:20251209T065808Z
LAST-MODIFIED:20251209T065808Z
UID:10000917-1776679200-1776702600@studioprogramma.lanza.nl
SUMMARY:L'ANZA Bootcamp Cutting & Trends (Apeldoorn) 20/210426
DESCRIPTION:Wil jij jouw kniptechnieken verfijnen en de nieuwste trends moeiteloos toepassen in je salon? Tijdens deze intensieve tweedaagse bootcamp leer je onder leiding van Natasja Keijzer en AnnaSofie Damen hoe je lange\, middellange én korte kapsels knipt volgens de trends van nu – en hoe je die vertaalt naar jouw eigen stijl. \nWat kun je verwachten? \n\nDag 1 – Theorie & demonstraties:\nInzicht in de nieuwste kniptrends\nAnalyse van gezichtsvormen en kapselopbouw\nDemonstraties van lange\, middellange en korte coupes\nLijnvoering\, beweging en techniek\nDag 2 – Praktijk op dollheads:\nZelf oefenen met de nieuwste kniptechnieken\nPersoonlijke begeleiding en feedback van Natasja & AnnaSofie\nTips om technieken direct toe te passen in jouw salonwerk\nLeren combineren van techniek en creativiteit\n\nWaarom deelnemen? \nNa deze bootcamp beheers je de nieuwste kniptrends en weet je hoe je deze aanpast aan verschillende gezichtsvormen en klantwensen. Je hebt praktische ervaring opgedaan\, weet hoe je technieken vertaalt naar jouw eigen stijl en staat vol zelfvertrouwen én inspiratie weer in de salon. \nIndien gewenst kunnen we een overnachting regelen. De kosten hiervan bedragen € 140\,- per kamer en € 19\,50 voor het ontbijt per persoon. \nIngeschreven maar onverwacht verhinderd? Geeft dit tijdig aan ons door. Wij kunnen dan iemand van de wachtlijst plaatsen voor dit seminar. Bij te laat melden of niet melden\, hanteren we een annuleringsregeling: bij annulering binnen 14 dagen voor aanvang van de cursus bedragen de kosten 50% van het cursusbedrag. Bij annulering tot een week voor aanvang van de cursus vindt geen restitutie van het cursusbedrag plaats. Deelname door een plaatsvervanger is altijd toegestaan.
URL:https://studioprogramma.lanza.nl/workshops/lanza-bootcamp-cutting-trends-apeldoorn-20-210426/
LOCATION:Ministry of Beauty\, Europaweg 220\, 7336 AR Apeldoorn\, Nederland
CATEGORIES:L'ANZA Healing Haircare
ATTACH;FMTTYPE=image/png:https://studioprogramma.lanza.nl/wp-content/uploads/2025/12/Bootcamp-Cutting.png
ORGANIZER;CN="L'ANZA Healing Haircare":MAILTO:info@lanza.nl
GEO:52.1926836;5.9329345
X-APPLE-STRUCTURED-LOCATION;VALUE=URI;X-ADDRESS=Ministry of Beauty Europaweg 220 7336 AR Apeldoorn Nederland;X-APPLE-RADIUS=500;X-TITLE=Europaweg 220:geo:5.9329345,52.1926836
END:VEVENT
BEGIN:VEVENT
DTSTART;TZID=Europe/Helsinki:20260504T100000
DTEND;TZID=Europe/Helsinki:20260504T113000
DTSTAMP:20260422T025917
CREATED:20260414T084744Z
LAST-MODIFIED:20260414T084744Z
UID:10000925-1777888800-1777894200@studioprogramma.lanza.nl
SUMMARY:Online training L'ANZA Code of color basis (10.00 uur maandag 4 mei)
DESCRIPTION:Tijdens deze online training van maximaal 1\,5 uur verzorgt AnnaSofie Damen een theoretische sessie voor beginnende hairstylisten en gevorderde hairstylisten die hun kleurkennis willen opfrissen. \nEen sterke basis in kleur is essentieel voor het creëren van het juiste eindresultaat. In deze training nemen we je mee in de belangrijkste kleurprincipes en leer je hoe je deze toepast in de praktijk. Wat gebeurt er precies tijdens het kleurproces? Hoe maak je de juiste keuzes voor jouw klant? \nWe behandelen onder andere: \n✔️ Het kleurenwiel✔️ Semi-\, demi- en permanente kleuringen✔️ Waterstoffen en hun werking✔️ Grijsdekking✔️ Het bepalen van de ondertoon \n💡 Belangrijk: Deze training is geschikt voor zowel beginnende als gevorderde hairstylisten die hun basiskennis willen versterken. \n\nAanmelden en deelname \nNa je aanmelding ontvang je een bevestiging van inschrijving. Vervolgens sturen we je een link om in te loggen. De training wordt gegeven via Microsoft Teams. Om deel te nemen met je laptop hoef je de Microsoft Teams-app niet te installeren; je kunt eenvoudig deelnemen via de vergaderlink in je e-mail (check ook je spam) of via je Outlook-agenda. Neem je deel via telefoon of tablet? Installeer dan vooraf de Microsoft Teams-app. \n📌 Let op: \nPer aanmelding kan slechts één deelnemer worden geregistreerd.Het delen van de deelname-link is niet toegestaan.Meekijken met collega’s op één scherm is uiteraard geen probleem! \n🔗 Meld je nu aan en versterk jouw basiskennis in kleurtechnieken!
URL:https://studioprogramma.lanza.nl/workshops/online-training-lanza-code-of-color-basis-10-00-uur-maandag-4-mei/
LOCATION:online training\, Nederland
ATTACH;FMTTYPE=image/jpeg:https://studioprogramma.lanza.nl/wp-content/uploads/2025/06/woman-choosing-color-hair-dye-kopie.jpg
ORGANIZER;CN="L'ANZA Healing Haircare":MAILTO:info@lanza.nl
GEO:39.9613759;-105.5108312
END:VEVENT
BEGIN:VEVENT
DTSTART;TZID=Europe/Helsinki:20260504T130000
DTEND;TZID=Europe/Helsinki:20260504T143000
DTSTAMP:20260422T025917
CREATED:20260414T085258Z
LAST-MODIFIED:20260414T085258Z
UID:10000926-1777899600-1777905000@studioprogramma.lanza.nl
SUMMARY:Online training L'ANZA Code of color blond ( 13.00 uur maandag 4 mei)
DESCRIPTION:Tijdens deze online training van maximaal 1\,5 uur gaat AnnaSofie Damen dieper in op het blonderen met high lift kleuringen. \nHet creëren van de perfecte blonde kleur vraagt om kennis en de juiste productkeuze. In deze training ontdek je de verschillen tussen de 100- en 200-serie en leer je met welke factoren je rekening moet houden voor een optimaal resultaat. Hoe maak je de juiste keuze? En hoe haal je het maximale uit deze high lift kleuringen? \nWe behandelen onder andere: \n✔️ Het verschil tussen de 100- en 200-serie✔️ Belangrijke factoren bij het kiezen van de juiste kleuring✔️ Het optimaal inzetten van high lift kleuringen \nAan de hand van verschillende praktijkcases maken we dit visueel en direct toepasbaar. \n💡 Belangrijk: Deze training is speciaal ontwikkeld voor gevorderde haarstylisten. \n\nAanmelden en deelname \nNa je aanmelding ontvang je een bevestiging van inschrijving. Vervolgens sturen we je een link om in te loggen. De training wordt gegeven via Microsoft Teams. Om deel te nemen met je laptop hoef je de Microsoft Teams-app niet te installeren; je kunt eenvoudig deelnemen via de vergaderlink in je e-mail (check ook je spam) of via je Outlook-agenda. Neem je deel via telefoon of tablet? Installeer dan vooraf de Microsoft Teams-app. \n📌 Let op: \nPer aanmelding kan slechts één deelnemer worden geregistreerd.Het delen van de deelname-link is niet toegestaan.Meekijken met collega’s op één scherm is uiteraard geen probleem! \n🔗 Meld je nu aan en word expert in high lift blond kleuringen!
URL:https://studioprogramma.lanza.nl/workshops/online-training-lanza-code-of-color-blond-13-00-uur-maandag-4-mei/
LOCATION:online training\, Nederland
CATEGORIES:L'ANZA Healing Haircare
ATTACH;FMTTYPE=image/jpeg:https://studioprogramma.lanza.nl/wp-content/uploads/2025/06/side-view-woman-hair-salon-kopie.jpg
ORGANIZER;CN="L'ANZA Healing Haircare":MAILTO:info@lanza.nl
GEO:39.9613759;-105.5108312
END:VEVENT
BEGIN:VEVENT
DTSTART;TZID=Europe/Helsinki:20260504T150000
DTEND;TZID=Europe/Helsinki:20260504T163000
DTSTAMP:20260422T025917
CREATED:20260414T084303Z
LAST-MODIFIED:20260414T084303Z
UID:10000924-1777906800-1777912200@studioprogramma.lanza.nl
SUMMARY:Online training L'ANZA Liquids vs demi translucent (15.00 uur maandag 4 mei)
DESCRIPTION:Tijdens deze online training van maximaal 1\,5 uur verzorgt AnnaSofie Damen een theoretische sessie voor professionals die hun kennis over kleuringen willen verdiepen en optimaliseren. \nWe kunnen met onze kleuringen vrijwel alles creëren\, maar elke kleuring heeft zijn eigen kracht en toepassing. Een bewuste keuze maken is essentieel voor het behalen van het beste resultaat: Wanneer kies je voor welke kleuring? En hoe benut je het maximale uit je kleur? \nIn deze training nemen we je mee in de verschillen tussen onze kleuringen en leer je hoe je deze doelgericht inzet in de praktijk. We behandelen onder andere: \n✔️ De verschillende kleuringen en hun specifieke kracht✔️ Het maken van de juiste keuze per situatie✔️ Het optimaal benutten van je kleurresultaat \nAan de hand van verschillende praktijkcases maken we dit visueel en direct toepasbaar. \n💡 Belangrijk: Deze training is geschikt voor professionals die al basiskennis hebben van kleurtechnieken. \n\nAanmelden en deelname \nNa je aanmelding ontvang je een bevestiging van inschrijving. Vervolgens sturen we je een link om in te loggen. De training wordt gegeven via Microsoft Teams. Om deel te nemen met je laptop hoef je de Microsoft Teams-app niet te installeren; je kunt eenvoudig deelnemen via de vergaderlink in je e-mail (check ook je spam) of via je Outlook-agenda. Neem je deel via telefoon of tablet? Installeer dan vooraf de Microsoft Teams-app. \n📌 Let op: \nPer aanmelding kan slechts één deelnemer worden geregistreerd.Het delen van de deelname-link is niet toegestaan.Meekijken met collega’s op één scherm is uiteraard geen probleem! \n🔗 Meld je nu aan en haal het maximale uit jouw kennis van kleuringen!
URL:https://studioprogramma.lanza.nl/workshops/online-training-lanza-liquids-vs-demi-translucent-15-00-uur-maandag-4-mei/
LOCATION:online training\, Nederland
CATEGORIES:L'ANZA Healing Haircare
ATTACH;FMTTYPE=image/png:https://studioprogramma.lanza.nl/wp-content/uploads/2025/12/LANZA.png
ORGANIZER;CN="L'ANZA Healing Haircare":MAILTO:info@lanza.nl
GEO:39.9613759;-105.5108312
END:VEVENT
BEGIN:VEVENT
DTSTART;TZID=Europe/Helsinki:20260511T100000
DTEND;TZID=Europe/Helsinki:20260511T160000
DTSTAMP:20260422T025917
CREATED:20260327T081102Z
LAST-MODIFIED:20260327T104555Z
UID:10000922-1778493600-1778515200@studioprogramma.lanza.nl
SUMMARY:L'ANZA B.I.G. Inspiration Day 110526
DESCRIPTION:Gun jezelf een dag weg uit de drukte van de salon – en stap in een wereld vol inspiratie\, nieuwe ideeën en energie. \nTijdens deze inspiratiedag draait het helemaal om jou en jouw ontwikkeling. Even uitzoomen\, opladen en weer met frisse focus terug de salon in. \nWe hebben iets bijzonders voor je: vanuit Amerika komt Creative Color Director Leah Freeman naar ons toe. Samen met ons educatieteam laat zij je de nieuwste kleurtechnieken zien – eerlijk\, praktisch en direct toepasbaar op jouw klanten. \nJe krijgt een dag vol inspiratie\, met onderwerpen waar je écht iets aan hebt:van knippen en stylen tot communicatie in de salon\, fotografie en krullen. Alles om jou sterker\, creatiever en zelfverzekerder te maken achter de stoel. \nTussendoor schuif je aan voor een heerlijke lunch. Even ontspannen\, bijpraten met vakgenoten en nieuwe connecties maken. \nDit is jouw moment om te groeien. Voor jezelf én voor je salon. \n⚠️ Wacht niet te lang – het aantal plekken is beperkt. \nLevel: voor iedereen – van beginnende stylist tot saloneigenaarInclusief: een volledig verzorgde dag\, inclusief lunch & consumpties \nOf gun jezelf het complete plaatje en maak er een ontspannen weekend van! \nVoeg een een luxe en comfortabele overnachting toe voorafgaand aan de inspiratiedag van zondag op maandag bij Van der Valk Hotel De Cantharel in de vorm van een arrangement: geniet van een dinerbuffet op zondagavond\, een luxe en comfortabele overnachting met toegang tot de wellness én een uitgebreid ontbijtbuffet om de volgende ochtend goed te starten. De kosten voor het arrangement bedragen voor een tweepersoonskamer: € 289\,- per persoon (inclusief diner op zondagavond/overnachting met ontbijt/toegang tot inspiratiedag). \nVoor onze Belgische klanten hebben we 3 mogelijkheden: \n\nTickets boeken en op eigen gelegenheid naar Apeldoorn komen op de dag zelf\nTickets boeken en gebruik maken van het arrangement om te overnachten – kosten € 289\,- per persoon (inclusief diner op zondagavond/overnachting met ontbijt/toegang tot inspiratiedag).\nTickets boeken en met een door ons georganiseerde busreis naar Apeldoorn komen en gebruik maken van het arrangement om te overnachten – kosten € 399\,- per persoon (inclusief rondleiding bij Ministry of Beauty incl. kleine lunch\, diner op zondagavond/overnachting met ontbijt/toegang tot inspiratiedag).\n\nVoor een éénpersoonskamer vragen we een toeslag van € 75\,- Het aantal arrangementen is niet onbeperkt. \nWilt u gebruik maken van een arrangement: neem contact op met juliette@ministryofbeauty.nl
URL:https://studioprogramma.lanza.nl/workshops/lanza-b-i-g-inspiration-day-110527/
LOCATION:Van der Valk hotel Apeldoorn\, Landgoedlaan\, Apeldoorn\, Apeldoorn\, 7325 AW
CATEGORIES:L'ANZA Healing Haircare
ATTACH;FMTTYPE=image/png:https://studioprogramma.lanza.nl/wp-content/uploads/2026/03/inspiration-day.png
ORGANIZER;CN="L'ANZA Healing Haircare":MAILTO:info@lanza.nl
GEO:52.2046061;6.0172141
X-APPLE-STRUCTURED-LOCATION;VALUE=URI;X-ADDRESS=Van der Valk hotel Apeldoorn Landgoedlaan Apeldoorn Apeldoorn 7325 AW;X-APPLE-RADIUS=500;X-TITLE=Landgoedlaan:geo:6.0172141,52.2046061
END:VEVENT
END:VCALENDAR