BEGIN:VCALENDAR
VERSION:2.0
PRODID:-//Studioprogramma L&#039;ANZA Healing color &amp; care - ECPv6.6.2//NONSGML v1.0//EN
CALSCALE:GREGORIAN
METHOD:PUBLISH
X-ORIGINAL-URL:https://studioprogramma.lanza.nl
X-WR-CALDESC:Evenementen voor Studioprogramma L&#039;ANZA Healing color &amp; care
REFRESH-INTERVAL;VALUE=DURATION:PT1H
X-Robots-Tag:noindex
X-PUBLISHED-TTL:PT1H
BEGIN:VTIMEZONE
TZID:Europe/Helsinki
BEGIN:DAYLIGHT
TZOFFSETFROM:+0200
TZOFFSETTO:+0300
TZNAME:EEST
DTSTART:20260329T010000
END:DAYLIGHT
BEGIN:STANDARD
TZOFFSETFROM:+0300
TZOFFSETTO:+0200
TZNAME:EET
DTSTART:20261025T010000
END:STANDARD
END:VTIMEZONE
BEGIN:VEVENT
DTSTART;TZID=Europe/Helsinki:20260622T093000
DTEND;TZID=Europe/Helsinki:20260622T173000
DTSTAMP:20260422T012550
CREATED:20251209T065808Z
LAST-MODIFIED:20251209T065808Z
UID:10000913-1782120600-1782149400@studioprogramma.lanza.nl
SUMMARY:L'ANZA Grey Blending (Apeldoorn) 220626
DESCRIPTION:Wil jij dé expert worden in het creëren van zachte overgangen richting grijs? In deze training leer je hoe je klanten begeleidt van geverfd haar naar een stijlvolle grey blending – of ze nu al grotendeels grijs zijn of net de eerste stap willen zetten. \nWat kun je verwachten? \n\nOchtend – Theorie:\nDiagnose: Wat zien we\, wat is de wens van de klant\, en wat is realistisch?\nPlan van aanpak: Welke techniek en welke producten kies je om het gewenste resultaat te behalen?\nOnderhoud & advies: Hoe geef je advies voor langdurig kleurplezier én een eventueel stappenplan richting volledig grijs?\n\n Middag – Praktijk met modellen (vanaf 12:00 uur): \n\nDiagnose stellen en behandelplan opstellen.\nLeren kijken naar haartype\, wensen en de juiste techniek bepalen.\nZelf aan de slag met verschillende grey blending-technieken en passende recepturen.\n\nWaarom deelnemen? \nNa deze training:\n•          Heb je uitgebreide kennis over grey blending kleurtechnieken.\n•          Kun je verschillende technieken toepassen in de praktijk.\n•          Weet je hoe je het juiste kleurrecept bepaalt.\n•          Stap je vol vertrouwen je salon in om de mooiste greyblends te maken. \nLevel: gevorderd \nIngeschreven maar onverwacht verhinderd? Geeft dit tijdig aan ons door. Wij kunnen dan iemand van de wachtlijst plaatsen voor dit seminar. Bij te laat melden of niet melden\, hanteren we een annuleringsregeling: bij annulering binnen 14 dagen voor aanvang van de cursus bedragen de kosten 50% van het cursusbedrag. Bij annulering tot een week voor aanvang van de cursus vindt geen restitutie van het cursusbedrag plaats. Deelname door een plaatsvervanger is altijd toegestaan.
URL:https://studioprogramma.lanza.nl/workshops/lanza-grey-blending-apeldoorn-220626/
LOCATION:Ministry of Beauty\, Europaweg 220\, 7336 AR Apeldoorn\, Nederland
CATEGORIES:L'ANZA Healing Haircare
ATTACH;FMTTYPE=image/png:https://studioprogramma.lanza.nl/wp-content/uploads/2025/12/greyblending.png
ORGANIZER;CN="L'ANZA Healing Haircare":MAILTO:info@lanza.nl
GEO:52.1926836;5.9329345
X-APPLE-STRUCTURED-LOCATION;VALUE=URI;X-ADDRESS=Ministry of Beauty Europaweg 220 7336 AR Apeldoorn Nederland;X-APPLE-RADIUS=500;X-TITLE=Europaweg 220:geo:5.9329345,52.1926836
END:VEVENT
BEGIN:VEVENT
DTSTART;TZID=Europe/Helsinki:20260623T100000
DTEND;TZID=Europe/Helsinki:20260623T163000
DTSTAMP:20260422T012550
CREATED:20251209T065808Z
LAST-MODIFIED:20251209T065808Z
UID:10000916-1782208800-1782232200@studioprogramma.lanza.nl
SUMMARY:L'ANZA Curly Method - de kunst van het krullen knippen basis (Apeldoorn) 230626
DESCRIPTION:Krullen knippen is een vak apart\, en met de unieke L’ANZA Curly Method leer je hoe je krullend haar zo knipt en verzorgt dat het beter valt en langer houdbaar blijft. Dit seminar is speciaal ontwikkeld voor hairstylisten die hun expertise in het knippen en behandelen van krullen willen vergroten. \n Wat ga je leren? \n\nBewust kijken naar krulsoorten:\nOntdek de verschillen tussen diverse soorten krulhaar en leer hoe je voor iedere krul een persoonlijke aanpak kunt creëren.\nKniptechnieken voor krullen:\nVerdiep je in technieken die krullen meer definitie en beweging geven\, voor een resultaat dat je klanten laat stralen.\nPersoonlijk behandelplan:\nStel een op maat gemaakt behandelplan op voor jouw model volgens de L’ANZA Curly Method\, waarmee je de natuurlijke schoonheid van de krul benadrukt.\nWerken met de Healing Curls-lijn:\nMaak kennis met de producten uit de Healing Curls-lijn en leer hoe je deze gebruikt voor een perfect resultaat. Daarnaast leer je hoe je deze producten aan je klanten kunt adviseren.\n\n Wat heb je nodig? \nVoor deze workshop vragen we je een model mee te nemen dat voldoet aan de volgende eisen: \n\nHet haar is 2 dagen niet gewassen en bevat stylingproducten die normaal worden gebruikt.\nHet model draagt het haar in de natuurlijke krul zoals het los gedragen wordt.\nHet model kan vanaf de start van het praktijkgedeelte aanwezig zijn.\n\nDaarnaast vragen we je je eigen werkmateriaal mee te nemen: \n\nScharen\, kammen\, klemmen\nFöhn en diffuser\nDenman/Row Brush\n\n Programma \nWe starten met een uur theorie\, waarin je kennismaakt met de methodiek en producten. Daarna ga je direct aan de slag met je model om de technieken in de praktijk te brengen. \nSchrijf je in voor deze inspirerende workshop en ontdek hoe je klanten met krullen kunt voorzien van de perfecte coupe én advies! \nIngeschreven maar onverwacht verhinderd? Geeft dit tijdig aan ons door. Wij kunnen dan iemand van de wachtlijst plaatsen voor dit seminar. Bij te laat melden of niet melden\, hanteren we een annuleringsregeling: bij annulering binnen 14 dagen voor aanvang van de cursus bedragen de kosten 50% van het cursusbedrag. Bij annulering tot een week voor aanvang van de cursus vindt geen restitutie van het cursusbedrag plaats. Deelname door een plaatsvervanger is altijd toegestaan.
URL:https://studioprogramma.lanza.nl/workshops/lanza-curly-method-de-kunst-van-het-krullen-knippen-basis-apeldoorn-230626/
LOCATION:Ministry of Beauty\, Europaweg 220\, 7336 AR Apeldoorn\, Nederland
CATEGORIES:L'ANZA Healing Haircare
ATTACH;FMTTYPE=image/png:https://studioprogramma.lanza.nl/wp-content/uploads/2025/06/Scherm­afbeelding-2025-06-03-om-14.42.16.png
ORGANIZER;CN="L'ANZA Healing Haircare":MAILTO:info@lanza.nl
GEO:52.1926836;5.9329345
X-APPLE-STRUCTURED-LOCATION;VALUE=URI;X-ADDRESS=Ministry of Beauty Europaweg 220 7336 AR Apeldoorn Nederland;X-APPLE-RADIUS=500;X-TITLE=Europaweg 220:geo:5.9329345,52.1926836
END:VEVENT
BEGIN:VEVENT
DTSTART;TZID=Europe/Helsinki:20260629T100000
DTEND;TZID=Europe/Helsinki:20260629T163000
DTSTAMP:20260422T012550
CREATED:20251209T065807Z
LAST-MODIFIED:20251209T065807Z
UID:10000920-1782727200-1782750600@studioprogramma.lanza.nl
SUMMARY:L'ANZA Mastering Timeless Barbering by Kate Steen (Apeldoorn) 290626
DESCRIPTION:Next Gen Haircuts with Traditional Precision\nBen jij klaar om jouw knipskills naar een hoger niveau te tillen? Tijdens deze energieke training met Kate Steen leer je hoe je klassieke barbertechnieken combineert met moderne trends – perfect toepasbaar bij zowel dames als heren. Deze training is een mix van technisch vakmanschap\, creativiteit én slimme toepassingen voor in de salon. \nWat kun je verwachten? \nDe ochtend start met een inspirerende Look & Learn-sessie waarin Kate je meeneemt in de wereld van tijdloze barbering\, gecombineerd met hedendaagse stijlen. Je ziet hoe ze technieken toepast met verrassend gebruik van tools en producten. \nIn de middag ga je zelf aan de slag tijdens de Hands-on training op een dollhead. Je oefent de kniptechnieken direct onder begeleiding en krijgt tips & tricks over precisie\, lijnvoering\, structuur en persoonlijke stijl. \nJe leert hoe je vakmanschap en creativiteit combineert en hoe je jouw eigen handschrift verder ontwikkelt. \nWaarom deelnemen? \nDeze training is perfect voor stylisten die hun klassieke kniptechniek willen aanscherpen en willen leren hoe je traditionele barbering naar de moderne tijd vertaalt. Een dag vol inspiratie\, praktische kennis en technieken waarmee je zelfverzekerd en vernieuwend aan de slag kunt in je salon. \nLevel: gevorderd \nIngeschreven maar onverwacht verhinderd? Geeft dit tijdig aan ons door. Wij kunnen dan iemand van de wachtlijst plaatsen voor dit seminar. Bij te laat melden of niet melden\, hanteren we een annuleringsregeling: bij annulering binnen 14 dagen voor aanvang van de cursus bedragen de kosten 50% van het cursusbedrag. Bij annulering tot een week voor aanvang van de cursus vindt geen restitutie van het cursusbedrag plaats. Deelname door een plaatsvervanger is altijd toegestaan.
URL:https://studioprogramma.lanza.nl/workshops/lanza-mastering-timeless-barbering-by-kate-steen-apeldoorn-290626/
LOCATION:Ministry of Beauty\, Europaweg 220\, 7336 AR Apeldoorn\, Nederland
CATEGORIES:L'ANZA Healing Haircare
ATTACH;FMTTYPE=image/png:https://studioprogramma.lanza.nl/wp-content/uploads/2025/01/Kate-Steen.png
ORGANIZER;CN="L'ANZA Healing Haircare":MAILTO:info@lanza.nl
GEO:52.1926836;5.9329345
X-APPLE-STRUCTURED-LOCATION;VALUE=URI;X-ADDRESS=Ministry of Beauty Europaweg 220 7336 AR Apeldoorn Nederland;X-APPLE-RADIUS=500;X-TITLE=Europaweg 220:geo:5.9329345,52.1926836
END:VEVENT
END:VCALENDAR